BEGIN:VCALENDAR
VERSION:2.0
PRODID:-//Theatre 55 - ECPv6.15.20//NONSGML v1.0//EN
CALSCALE:GREGORIAN
METHOD:PUBLISH
X-WR-CALNAME:Theatre 55
X-ORIGINAL-URL:https://theatre55.org
X-WR-CALDESC:Events for Theatre 55
REFRESH-INTERVAL;VALUE=DURATION:PT1H
X-Robots-Tag:noindex
X-PUBLISHED-TTL:PT1H
BEGIN:VTIMEZONE
TZID:America/Chicago
BEGIN:DAYLIGHT
TZOFFSETFROM:-0600
TZOFFSETTO:-0500
TZNAME:CDT
DTSTART:20240310T080000
END:DAYLIGHT
BEGIN:STANDARD
TZOFFSETFROM:-0500
TZOFFSETTO:-0600
TZNAME:CST
DTSTART:20241103T070000
END:STANDARD
BEGIN:DAYLIGHT
TZOFFSETFROM:-0600
TZOFFSETTO:-0500
TZNAME:CDT
DTSTART:20250309T080000
END:DAYLIGHT
BEGIN:STANDARD
TZOFFSETFROM:-0500
TZOFFSETTO:-0600
TZNAME:CST
DTSTART:20251102T070000
END:STANDARD
BEGIN:DAYLIGHT
TZOFFSETFROM:-0600
TZOFFSETTO:-0500
TZNAME:CDT
DTSTART:20260308T080000
END:DAYLIGHT
BEGIN:STANDARD
TZOFFSETFROM:-0500
TZOFFSETTO:-0600
TZNAME:CST
DTSTART:20261101T070000
END:STANDARD
END:VTIMEZONE
BEGIN:VEVENT
DTSTART;TZID=America/Chicago:20250330T100000
DTEND;TZID=America/Chicago:20250504T120000
DTSTAMP:20260424T054357
CREATED:20250304T220431Z
LAST-MODIFIED:20250418T192904Z
UID:13745-1743328800-1746360000@theatre55.org
SUMMARY:Broadway Dance Class
DESCRIPTION:Classes will be held on Sundays\, from March 30 to May 4\, from 10 am to 12 pm\, at The A-Mill Lofts Dance Studio. Please note that there will be no class on April 20. \n\n\n\nIn this class\, you will learn Broadway dance terms and techniques that will help you shine like a star! We will begin each class with thorough stretching and warm-ups to prepare your body for the dance steps and choreography of Broadway legends like Bob Fosse\, Michael Kidd\, Jerome Robbins\, Gillian Lynne\, Susan Stroman\, Tommy Tune\, Agnes de Mille\, and more. By the end of this course\, you will feel more confident and ready to entertain through the art of dance! \n\n\n\n\n\n\n\n\n\n\n\n\n\n\n\n\n\n\nShare this:\n				Share on Facebook (Opens in new window)\n				Facebook
URL:https://theatre55.org/event/broadway-dance-class/
LOCATION:A-Mill Lofts Dance Studio\, 315 SE Main St\, Minneapolis\, Minnesota\, 55414
CATEGORIES:Classes
ORGANIZER;CN="Theatre 55":MAILTO:theatre55.wp@gmail.com
END:VEVENT
END:VCALENDAR