BEGIN:VCALENDAR
VERSION:2.0
PRODID:-//Theatre 55 - ECPv6.15.20//NONSGML v1.0//EN
CALSCALE:GREGORIAN
METHOD:PUBLISH
X-WR-CALNAME:Theatre 55
X-ORIGINAL-URL:https://theatre55.org
X-WR-CALDESC:Events for Theatre 55
REFRESH-INTERVAL;VALUE=DURATION:PT1H
X-Robots-Tag:noindex
X-PUBLISHED-TTL:PT1H
BEGIN:VTIMEZONE
TZID:America/Chicago
BEGIN:DAYLIGHT
TZOFFSETFROM:-0600
TZOFFSETTO:-0500
TZNAME:CDT
DTSTART:20250309T080000
END:DAYLIGHT
BEGIN:STANDARD
TZOFFSETFROM:-0500
TZOFFSETTO:-0600
TZNAME:CST
DTSTART:20251102T070000
END:STANDARD
BEGIN:DAYLIGHT
TZOFFSETFROM:-0600
TZOFFSETTO:-0500
TZNAME:CDT
DTSTART:20260308T080000
END:DAYLIGHT
BEGIN:STANDARD
TZOFFSETFROM:-0500
TZOFFSETTO:-0600
TZNAME:CST
DTSTART:20261101T070000
END:STANDARD
BEGIN:DAYLIGHT
TZOFFSETFROM:-0600
TZOFFSETTO:-0500
TZNAME:CDT
DTSTART:20270314T080000
END:DAYLIGHT
BEGIN:STANDARD
TZOFFSETFROM:-0500
TZOFFSETTO:-0600
TZNAME:CST
DTSTART:20271107T070000
END:STANDARD
END:VTIMEZONE
BEGIN:VEVENT
DTSTART;TZID=America/Chicago:20260307T100000
DTEND;TZID=America/Chicago:20260404T120000
DTSTAMP:20260423T165732
CREATED:20260120T000050Z
LAST-MODIFIED:20260306T194708Z
UID:15514-1772877600-1775304000@theatre55.org
SUMMARY:Heroes & Villains Monologues
DESCRIPTION:Share this:\n				Share on Facebook (Opens in new window)\n				Facebook
URL:https://theatre55.org/event/heroes-villains-monologues/
LOCATION:Center for Performing Arts\, 3754 Pleasant Ave\, Minneapolis\, Minnesota\, 55409\, United States
ORGANIZER;CN="Theatre 55":MAILTO:theatre55.wp@gmail.com
END:VEVENT
BEGIN:VEVENT
DTSTART;TZID=America/Chicago:20260307T100000
DTEND;TZID=America/Chicago:20260411T120000
DTSTAMP:20260423T165732
CREATED:20260119T234616Z
LAST-MODIFIED:20260306T194446Z
UID:15504-1772877600-1775908800@theatre55.org
SUMMARY:"Yes And…" Intro to Improv
DESCRIPTION:Share this:\n				Share on Facebook (Opens in new window)\n				Facebook
URL:https://theatre55.org/event/yes-and-intro-to-improv/
LOCATION:Center for Performing Arts\, 3754 Pleasant Ave\, Minneapolis\, Minnesota\, 55409\, United States
ORGANIZER;CN="Theatre 55":MAILTO:theatre55.wp@gmail.com
END:VEVENT
BEGIN:VEVENT
DTSTART;TZID=America/Chicago:20260307T100000
DTEND;TZID=America/Chicago:20260411T120000
DTSTAMP:20260423T165732
CREATED:20260119T235456Z
LAST-MODIFIED:20260306T195130Z
UID:15507-1772877600-1775908800@theatre55.org
SUMMARY:Broadway Dance
DESCRIPTION:Share this:\n				Share on Facebook (Opens in new window)\n				Facebook
URL:https://theatre55.org/event/dance-for-musical-theatre/
LOCATION:A-Mill Lofts Dance Studio\, 315 SE Main St\, Minneapolis\, Minnesota\, 55414
ORGANIZER;CN="Theatre 55":MAILTO:theatre55.wp@gmail.com
END:VEVENT
BEGIN:VEVENT
DTSTART;TZID=America/Chicago:20260410T190000
DTEND;TZID=America/Chicago:20260410T210000
DTSTAMP:20260423T165732
CREATED:20260111T201837Z
LAST-MODIFIED:20260323T203118Z
UID:15415-1775847600-1775854800@theatre55.org
SUMMARY:The Full Monty\, April 10
DESCRIPTION:Tickets available at The O’Shaughnessy’s ticketing partner\, Etix: Click for ticketsTickets by Phone\, call the O’Shaughnessy Ticket Office: 651-690-6700 \n\n\n\n\n\n\n\n\n\n\n\n\n\n\n\n\nShare this:\n				Share on Facebook (Opens in new window)\n				Facebook
URL:https://theatre55.org/event/the-full-monty-4-10/
LOCATION:Frey Theatre at St. Catherine University\, 2004 Randolph Ave\, St Paul\, Minnesota\, 55116\, United States
CATEGORIES:The Full Monty
ORGANIZER;CN="Theatre 55":MAILTO:theatre55.wp@gmail.com
END:VEVENT
BEGIN:VEVENT
DTSTART;TZID=America/Chicago:20260411T190000
DTEND;TZID=America/Chicago:20260411T210000
DTSTAMP:20260423T165732
CREATED:20260111T202331Z
LAST-MODIFIED:20260323T202953Z
UID:15420-1775934000-1775941200@theatre55.org
SUMMARY:The Full Monty\, April 11
DESCRIPTION:Tickets available at The O’Shaughnessy’s ticketing partner\, Etix: Click for ticketsTickets by Phone\, call the O’Shaughnessy Ticket Office: 651-690-6700 \n\n\n\n\n\n\n\n\n\n\n\n\n\n\n\n\nShare this:\n				Share on Facebook (Opens in new window)\n				Facebook
URL:https://theatre55.org/event/the-full-monty-april-11/
LOCATION:Frey Theatre at St. Catherine University\, 2004 Randolph Ave\, St Paul\, Minnesota\, 55116\, United States
CATEGORIES:The Full Monty
ORGANIZER;CN="Theatre 55":MAILTO:theatre55.wp@gmail.com
END:VEVENT
BEGIN:VEVENT
DTSTART;TZID=America/Chicago:20260412T140000
DTEND;TZID=America/Chicago:20260412T160000
DTSTAMP:20260423T165732
CREATED:20260111T202622Z
LAST-MODIFIED:20260323T202812Z
UID:15422-1776002400-1776009600@theatre55.org
SUMMARY:The Full Monty\, April 12
DESCRIPTION:Tickets available at The O’Shaughnessy’s ticketing partner\, Etix. Click to buyTickets by Phone\, call the O’Shaughnessy Ticket Office: 651-690-6700 \n\n\n\n\n\n\n\n\n\n\n\n\n\n\n\n\nShare this:\n				Share on Facebook (Opens in new window)\n				Facebook
URL:https://theatre55.org/event/the-full-monty-april-12/
LOCATION:Frey Theatre at St. Catherine University\, 2004 Randolph Ave\, St Paul\, Minnesota\, 55116\, United States
CATEGORIES:The Full Monty
ORGANIZER;CN="Theatre 55":MAILTO:theatre55.wp@gmail.com
END:VEVENT
BEGIN:VEVENT
DTSTART;TZID=America/Chicago:20260416T190000
DTEND;TZID=America/Chicago:20260416T210000
DTSTAMP:20260423T165732
CREATED:20260111T204105Z
LAST-MODIFIED:20260323T202610Z
UID:15424-1776366000-1776373200@theatre55.org
SUMMARY:The Full Monty\, April 16
DESCRIPTION:Tickets available at The O’Shaughnessy’s ticketing partner\, Etix. Click to buyTickets by Phone\, call the O’Shaughnessy Ticket Office: 651-690-6700 \n\n\n\n\n\n\n\n\n\n\n\n\n\n\n\n\nShare this:\n				Share on Facebook (Opens in new window)\n				Facebook
URL:https://theatre55.org/event/the-full-monty-april-16/
LOCATION:Frey Theatre at St. Catherine University\, 2004 Randolph Ave\, St Paul\, Minnesota\, 55116\, United States
CATEGORIES:The Full Monty
ORGANIZER;CN="Theatre 55":MAILTO:theatre55.wp@gmail.com
END:VEVENT
BEGIN:VEVENT
DTSTART;TZID=America/Chicago:20260417T190000
DTEND;TZID=America/Chicago:20260417T210000
DTSTAMP:20260423T165732
CREATED:20260111T204331Z
LAST-MODIFIED:20260323T202352Z
UID:15426-1776452400-1776459600@theatre55.org
SUMMARY:The Full Monty\, April 17
DESCRIPTION:Tickets available at The O’Shaughnessy’s ticketing partner\, Etix. Click to buyTickets by Phone\, call the O’Shaughnessy Ticket Office: 651-690-6700 \n\n\n\n\n\n\n\n\n\n\n\n\n\n\n\n\nShare this:\n				Share on Facebook (Opens in new window)\n				Facebook
URL:https://theatre55.org/event/the-full-monty-april-17/
LOCATION:Frey Theatre at St. Catherine University\, 2004 Randolph Ave\, St Paul\, Minnesota\, 55116\, United States
CATEGORIES:The Full Monty
ORGANIZER;CN="Theatre 55":MAILTO:theatre55.wp@gmail.com
END:VEVENT
BEGIN:VEVENT
DTSTART;TZID=America/Chicago:20260418T190000
DTEND;TZID=America/Chicago:20260418T210000
DTSTAMP:20260423T165732
CREATED:20260111T204548Z
LAST-MODIFIED:20260323T202150Z
UID:15428-1776538800-1776546000@theatre55.org
SUMMARY:The Full Monty\, April 18
DESCRIPTION:Tickets available at The O’Shaughnessy’s ticketing partner\, Etix. Click to buyTickets by Phone\, call the O’Shaughnessy Ticket Office: 651-690-6700 \n\n\n\n\n\n\n\n\n\n\n\n\n\n\n\n\nShare this:\n				Share on Facebook (Opens in new window)\n				Facebook
URL:https://theatre55.org/event/the-full-monty-april-18/
LOCATION:Frey Theatre at St. Catherine University\, 2004 Randolph Ave\, St Paul\, Minnesota\, 55116\, United States
CATEGORIES:The Full Monty
ORGANIZER;CN="Theatre 55":MAILTO:theatre55.wp@gmail.com
END:VEVENT
BEGIN:VEVENT
DTSTART;TZID=America/Chicago:20260419T140000
DTEND;TZID=America/Chicago:20260419T160000
DTSTAMP:20260423T165732
CREATED:20260111T204831Z
LAST-MODIFIED:20260414T205646Z
UID:15432-1776607200-1776614400@theatre55.org
SUMMARY:The Full Monty\, April 19 SOLD OUT
DESCRIPTION:Tickets available at The O’Shaughnessy’s ticketing partner\, Etix. Click to buy Tickets by Phone\, call the O’Shaughnessy Ticket Office: 651-690-6700 \n\n\n\n\n\n\n\n\n\n\n\n\n\n\n\n\nShare this:\n				Share on Facebook (Opens in new window)\n				Facebook
URL:https://theatre55.org/event/the-full-monty-april-19/
LOCATION:Frey Theatre at St. Catherine University\, 2004 Randolph Ave\, St Paul\, Minnesota\, 55116\, United States
CATEGORIES:The Full Monty
ORGANIZER;CN="Theatre 55":MAILTO:theatre55.wp@gmail.com
END:VEVENT
END:VCALENDAR